BEGIN:VCALENDAR
VERSION:2.0
PRODID:-//wp-events-plugin.com//7.2.3.1//EN
TZID:America/New_York
X-WR-TIMEZONE:America/New_York
BEGIN:VEVENT
UID:64@shivatempleorlando.org
DTSTART;TZID=America/New_York:20260425T160000
DTEND;TZID=America/New_York:20260425T180000
DTSTAMP:20260422T090641Z
URL:https://shivatempleorlando.org/events/sunderkand-paath-2504/
SUMMARY:Sunderkand Paath
DESCRIPTION:Join us for the divine Sunderkand Paath and immerse in blessing
 s! 🙏
ATTACH;FMTTYPE=image/jpeg:https://shivatempleorlando.org/wp-content/upload
 s/2025/03/Sunderkand-Paath.png
LOCATION:Shri Shiv Dham Hindu Temple\, 460 Oberry Hoover Rd\, Orlando\, FL 
 32825\, United States\, Orlando\, United States
X-APPLE-STRUCTURED-LOCATION;VALUE=URI;X-ADDRESS=460 Oberry Hoover Rd\, Orla
 ndo\, FL 32825\, United States\, Orlando\, United States;X-APPLE-RADIUS=10
 0;X-TITLE=Shri Shiv Dham Hindu Temple:geo:0,0
END:VEVENT
BEGIN:VTIMEZONE
TZID:America/New_York
X-LIC-LOCATION:America/New_York
BEGIN:DAYLIGHT
DTSTART:20260308T030000
TZOFFSETFROM:-0500
TZOFFSETTO:-0400
TZNAME:EDT
END:DAYLIGHT
END:VTIMEZONE
END:VCALENDAR